BEGIN:VCALENDAR
VERSION:2.0
PRODID:-//primiero.events//Diabete mellito... una dolce malattia//IT
CALSCALE:GREGORIAN
METHOD:PUBLISH
X-WR-TIMEZONE:UTC
X-WR-CALNAME:Diabete mellito... una dolce malattia
X-WR-CALDESC:Diabete mellito... una dolce malattia
X-WR-TIMEZONE:Europe/Rome
BEGIN:VEVENT
DTSTART;VALUE=DATE:
DTEND;VALUE=DATE:
DTSTAMP:20260422T111802Z
UID:@dde1905410546130448a261f186800b4@primiero.events
ORGANIZER;CN=Comunità di Primiero:MAILTO:webmaster@primiero.events
SUMMARY:Diabete mellito... una dolce malattia
LOCATION:Lisiera di Tonadico, Tonadico
DESCRIPTION:Il gruppo pensionati con il patrocinio del Comune di Primiero San &nbsp;Martino di Castrozza, organizza presso la Lisiera di Tonadico gli incontri di educazione sanitaria.
STATUS:CONFIRMED
END:VEVENT
END:VCALENDAR