BEGIN:VCALENDAR
VERSION:2.0
PRODID:-//primiero.events//L'uso corretto del farmaco//IT
CALSCALE:GREGORIAN
METHOD:PUBLISH
X-WR-TIMEZONE:UTC
X-WR-CALNAME:L'uso corretto del farmaco
X-WR-CALDESC:L'uso corretto del farmaco
X-WR-TIMEZONE:Europe/Rome
BEGIN:VEVENT
DTSTART;VALUE=DATE:
DTEND;VALUE=DATE:
DTSTAMP:20260422T111909Z
UID:@a07f4936b083472941226658c64797d2@primiero.events
ORGANIZER;CN=Comunità di Primiero:MAILTO:webmaster@primiero.events
SUMMARY:L'uso corretto del farmaco
LOCATION:Lisiera di Tonadico, Tonadico
DESCRIPTION:Il gruppo pensionati&nbsp;con il patrocinio del&nbsp;Comune di Primiero San Martino di Castrozza, organizza presso la&nbsp;Lisiera di Tonadico&nbsp;gli incontri di educazione sanitaria.
STATUS:CONFIRMED
END:VEVENT
END:VCALENDAR