BEGIN:VCALENDAR
VERSION:2.0
PRODID:-//primiero.events//I corsi della Lana e Dintorni//IT
CALSCALE:GREGORIAN
METHOD:PUBLISH
X-WR-TIMEZONE:UTC
X-WR-CALNAME:I corsi della Lana e Dintorni
X-WR-CALDESC:I corsi della Lana e Dintorni
X-WR-TIMEZONE:Europe/Rome
BEGIN:VEVENT
DTSTART:T14:00:00
DTEND:T17:00:00
DTSTAMP:20260422T112018Z
UID:@7bb63f39530d1b56e0d170803a355bd6@primiero.events
ORGANIZER;CN=Comunità di Primiero:MAILTO:webmaster@primiero.events
SUMMARY:I corsi della Lana e Dintorni
LOCATION:loc. Cesurette (ai piedi del Castel Pietra), Primiero San Martino di Castrozza
DESCRIPTION:Un gesto antico, rivisto in chiave moderna, per creare un filato speciale con le proprie mani, utilizzando lane locali di Tingola&nbsp;e di&nbsp;Lamon.Questa iniziativa rientra nel ambito del Progetto di Valorizzazione delle lane autoctone.Ulteriori informazioni su costi e prenotazioni:&nbsp;0439 764637 - cristian.zorzi@parcopan.org&nbsp;Tiziana:349 6717196 - tiziana.scalet@gmail.com
STATUS:CONFIRMED
END:VEVENT
END:VCALENDAR