BEGIN:VCALENDAR
VERSION:2.0
PRODID:-//primiero.events//Fare economia nel territorio delle Dolomiti UNESCO//IT
CALSCALE:GREGORIAN
METHOD:PUBLISH
X-WR-TIMEZONE:UTC
X-WR-CALNAME:Fare economia nel territorio delle Dolomiti UNESCO
X-WR-CALDESC:Fare economia nel territorio delle Dolomiti UNESCO
X-WR-TIMEZONE:Europe/Rome
BEGIN:VEVENT
DTSTART;VALUE=DATE:
DTEND;VALUE=DATE:
DTSTAMP:20260422T111601Z
UID:@02360ff887b4d2fea6d0587adaf805a3@primiero.events
ORGANIZER;CN=Comunità di Primiero:MAILTO:webmaster@primiero.events
SUMMARY:Fare economia nel territorio delle Dolomiti UNESCO
LOCATION:Aula magna Enaip, Transacqua
DESCRIPTION:La discussione sarà anticipata dalla proiezione di alcuni estratti dal nuovo documentario sulle Dolomiti UNESCO e dedicato all’economia del Bene Comune. ‘Dolomiti. Economia del Bene comune’Il&nbsp;documentario&nbsp;racconta la vita di chi ha scelto di vivere in montagna, lavorando in diversi settori dell’economia alpina. La Fondazione Dolomiti UNESCO, grazie al sostegno delle&nbsp;Camere di Commercio di Trento e&nbsp;Bolzano,&nbsp;propone questo&nbsp;nuovo viaggio fra gli abitanti delle Dolomiti che hanno deciso di portare avanti un’idea d’impresa nell’ambiente in cui sono nati, puntando su qualità, sostenibilità e innovazione per la valorizzazione del Bene Comune.&nbsp;Il documentario è stato realizzato da Piero Badaloni con la collaborazione di Fausta Slanzi e la fotografia e il montaggio di Nicola Berti.&nbsp;‘Dolomiti. Economia del Bene comune’ è&nbsp;un progetto commissionato alla Fondazione Dolomiti UNESCO dalle Camere di Commercio, Industria, Artigianato e Agricoltura delle province di Trento e di Bolzano.&nbsp;A conclusione della Tavola Rotonda vi sarà un assaggio di alcuni prodotti del territorio.
STATUS:CONFIRMED
END:VEVENT
END:VCALENDAR