BEGIN:VCALENDAR
VERSION:2.0
PRODID:-//primiero.events//Riforma dello Statuto del Trentino Alto Adige/Südtirol//IT
CALSCALE:GREGORIAN
METHOD:PUBLISH
X-WR-TIMEZONE:UTC
X-WR-CALNAME:Riforma dello Statuto del Trentino Alto Adige/Südtirol
X-WR-CALDESC:Riforma dello Statuto del Trentino Alto Adige/Südtirol
X-WR-TIMEZONE:Europe/Rome
BEGIN:VEVENT
DTSTART;VALUE=DATE:
DTEND;VALUE=DATE:
DTSTAMP:20260422T130101Z
UID:@9106a3ee58088a0d6fc9e855fcf844d6@primiero.events
ORGANIZER;CN=Comunità di Primiero:MAILTO:webmaster@primiero.events
SUMMARY:Riforma dello Statuto del Trentino Alto Adige/Südtirol
LOCATION:Tonadico, TN
DESCRIPTION:Alcuni referenti della Consulta per la Riforma dello Statuto&nbsp;illustreranno i temi rispetto ai quali ogni cittadino potrà esprimere un’opinione e dare un contributo, evidenziando alcune indicazioni ed informazioni per permettere a tutti di partecipare rispetto ai seguenti temi:valori e le caratteristiche che rendono&nbsp;la nostra un’autonomia specialeruolo e le principali funzioni delle Province e della Regionetutela delle minoranze linguistichematerie in cui la Provincia decide in autonomia e come partecipa alle decisioni Statali ed Europeeruolo dei Comuni e degli Enti Localiprincipi di una buona amministrazione e gli strumenti per garantire la partecipazione e la democraziarisorse e vincoliOgnuno dei presenti, potrà dare un contributo e segnalare altri eventuali temi importanti da considerare per far crescere la nostra autonomia.
STATUS:CONFIRMED
END:VEVENT
END:VCALENDAR