BEGIN:VCALENDAR
VERSION:2.0
PRODID:-//primiero.events//C'è anche un nuovo modo di fare impresa…//IT
CALSCALE:GREGORIAN
METHOD:PUBLISH
X-WR-TIMEZONE:UTC
X-WR-CALNAME:C'è anche un nuovo modo di fare impresa…
X-WR-CALDESC:C'è anche un nuovo modo di fare impresa…
X-WR-TIMEZONE:Europe/Rome
BEGIN:VEVENT
DTSTART:T16:00:00
DTEND:T18:00:00
DTSTAMP:20260422T110345Z
UID:@4c2582fdf24081854b8331dbf7f3722a@primiero.events
ORGANIZER;CN=Comunità di Primiero:MAILTO:webmaster@primiero.events
SUMMARY:C'è anche un nuovo modo di fare impresa…
LOCATION:Sala Luigi Negrelli, Comunità di Primiero
DESCRIPTION:La crisi attuale dell'economia coinvolge tutti. Sembra necessario un confronto per capire, se in questo mondo ci si deve rassegnare a un declino che è sotto gli occhi di tutti, o se ci sono alternative, magari nascoste, ma che stimolate possono risultare utilità comune…
STATUS:CONFIRMED
END:VEVENT
END:VCALENDAR