BEGIN:VCALENDAR
VERSION:2.0
PRODID:-//primiero.events//Ospitalità rurale diffusa, un’opportunità per il territorio?//IT
CALSCALE:GREGORIAN
METHOD:PUBLISH
X-WR-TIMEZONE:UTC
X-WR-CALNAME:Ospitalità rurale diffusa, un’opportunità per il territorio?
X-WR-CALDESC:Ospitalità rurale diffusa, un’opportunità per il territorio?
X-WR-TIMEZONE:Europe/Rome
BEGIN:VEVENT
DTSTART;VALUE=DATE:
DTEND;VALUE=DATE:
DTSTAMP:20260422T111647Z
UID:@506a50ff223052e4db726c9e31cee5fb@primiero.events
ORGANIZER;CN=Comunità di Primiero:MAILTO:webmaster@primiero.events
SUMMARY:Ospitalità rurale diffusa, un’opportunità per il territorio?
LOCATION:Palalevico - Sala Impero, Levico Terme
DESCRIPTION:Programma ore 10.30 Saluti Presidente BIM Brenta Sergio Scaletore 10.40 Anno internazionale del turismo sostenibile: il ruolo dell’ospitalità rurale, uno sguardo comparativo Massimo De Marchi, Università di Padovaore 11.00 Studio di Fattibilità Preliminare Sistema Alberghi Rurali BIM Brenta - Luca Lietti, Agenda 21 Consultingore 11.45 Trasformare le Opportunità in Progetti Concreti: le misure e i bandi del GAL del Trentino Orientale Marco Bassetto Direttore GAL Trentino Orientaleore 12.00 Dibattito e Chiusura Lavori
STATUS:CONFIRMED
END:VEVENT
END:VCALENDAR