BEGIN:VCALENDAR
VERSION:2.0
PRODID:-//primiero.events//Incontro pubblico//IT
CALSCALE:GREGORIAN
METHOD:PUBLISH
X-WR-TIMEZONE:UTC
X-WR-CALNAME:Incontro pubblico
X-WR-CALDESC:Incontro pubblico
X-WR-TIMEZONE:Europe/Rome
BEGIN:VEVENT
DTSTART:T20:30:00
DTEND:T22:00:00
DTSTAMP:20260421T171721Z
UID:@5ea1c341cfa49f24b7b2f96d2144cf36@primiero.events
ORGANIZER;CN=Comune di Imer:MAILTO:webmaster@primiero.events
SUMMARY:Incontro pubblico
LOCATION:Ex Sieghe di Imèr, Imer
DESCRIPTION:Secondo incontro pubblico proposto dall'amministrazione comunale di Imèr, per parlare di:Interventi di ripristino del PAESAGGIO RURALE MONTANO con il dott. Luigi GottardoIl PROGETTO ORTI e sue implicazioni nel Regolamento Edilizio con l'arch. Sergio NiccoliniImpiego del FONDO DI SOLIDARIETÀ per le famiglie vittime dell’incendio di luglio 2016 con l'ass. Sandrina Iagher
STATUS:CONFIRMED
END:VEVENT
END:VCALENDAR