BEGIN:VCALENDAR
VERSION:2.0
PRODID:-//primiero.events//Festa del Nuoto 2017//IT
CALSCALE:GREGORIAN
METHOD:PUBLISH
X-WR-TIMEZONE:UTC
X-WR-CALNAME:Festa del Nuoto 2017
X-WR-CALDESC:Festa del Nuoto 2017
X-WR-TIMEZONE:Europe/Rome
BEGIN:VEVENT
DTSTART:T09:30:00
DTEND:T12:00:00
DTSTAMP:20260422T110723Z
UID:@8f469fc0b98223375957d5ab5e6a477a@primiero.events
ORGANIZER;CN=Comunità di Primiero:MAILTO:webmaster@primiero.events
SUMMARY:Festa del Nuoto 2017
LOCATION:Piscina Intercomunale di Primiero, Fiera di Primiero
DESCRIPTION:Una domenica di sport, allegria, cibo e compagnia! :D 9:30 RITROVO, riscaldamento e sfilata 10:00 inizio GARE (25 delfino/50 dorso/50 stile/50 rana/staffetta stile) A seguire RINFRESCO con la partecipazione di tutti!! Iscrizione da effettuare alla reception, anche con messaggio privato su facebook o via telefono 0439/62885 VI ASPETTIAMO NUMEROSI!!
STATUS:CONFIRMED
END:VEVENT
END:VCALENDAR