BEGIN:VCALENDAR
VERSION:2.0
PRODID:-//primiero.events//Nutrire il Domani//IT
CALSCALE:GREGORIAN
METHOD:PUBLISH
X-WR-TIMEZONE:UTC
X-WR-CALNAME:Nutrire il Domani
X-WR-CALDESC:Nutrire il Domani
X-WR-TIMEZONE:Europe/Rome
BEGIN:VEVENT
DTSTART:T20:15:00
DTEND:T22:00:00
DTSTAMP:20260422T110723Z
UID:@62a37cbc0dcb4c6c1b00505733a57ef4@primiero.events
ORGANIZER;CN=Comunità di Primiero:MAILTO:webmaster@primiero.events
SUMMARY:Nutrire il Domani
LOCATION:Teatro di Pieve, Transacqua
DESCRIPTION:Sarà l’occasione per conoscere il progetto “Nutrire il Domani. Costruzione di sinergie tra allenamento e turismo“
 che ha l’obiettivo di creare una forte relazione tra gli allevatori, 
soci del Caseificio, e gli attori del turismo, albergatori e 
ristoratori, perché solo insieme è possibile raccontare il nostro 
territorio, dove l’agricoltura rappresenta l’identità e la cultura 
locale.La discussione sarà arricchita dai contributi della Prof.ssa Alessia Mariotti dell’Università di Bolognae della prof.ssa&nbsp;Roberta Garibaldi dell’Università di Bergamo, tra le massime esperte italiane sul turismo culturale e gastronomico. 
STATUS:CONFIRMED
END:VEVENT
END:VCALENDAR