BEGIN:VCALENDAR
VERSION:2.0
PRODID:-//primiero.events//Visita Guidata//IT
CALSCALE:GREGORIAN
METHOD:PUBLISH
X-WR-TIMEZONE:UTC
X-WR-CALNAME:Visita Guidata
X-WR-CALDESC:Visita Guidata
X-WR-TIMEZONE:Europe/Rome
BEGIN:VEVENT
DTSTART;VALUE=DATE:
DTEND;VALUE=DATE:
DTSTAMP:20260422T110747Z
UID:@2d2e0591cdedd9b85d2db05be202770b@primiero.events
ORGANIZER;CN=Comunità di Primiero:MAILTO:webmaster@primiero.events
SUMMARY:Visita Guidata
LOCATION:Piazza Municipio, Fiera di Primiero
DESCRIPTION:Centro Storico, Pieve e Palazzo delle Miniere, ritrovo in Piazza Municipio
STATUS:CONFIRMED
END:VEVENT
END:VCALENDAR