BEGIN:VCALENDAR
VERSION:2.0
PRODID:-//primiero.events//Alla Scoperta Di Imer//IT
CALSCALE:GREGORIAN
METHOD:PUBLISH
X-WR-TIMEZONE:UTC
X-WR-CALNAME:Alla Scoperta Di Imer
X-WR-CALDESC:Alla Scoperta Di Imer
X-WR-TIMEZONE:Europe/Rome
BEGIN:VEVENT
DTSTART;VALUE=DATE:
DTEND;VALUE=DATE:
DTSTAMP:20260421T171558Z
UID:@54eea049bba1e75d932fbbe5229bab11@primiero.events
ORGANIZER;CN=Comune di Imer:MAILTO:webmaster@primiero.events
SUMMARY:Alla Scoperta Di Imer
LOCATION:Imer, TN
DESCRIPTION:Visita al centro storico alla scoperta dell'architettura di montagna, la pittura popolare, la chiesa, i luoghi cari alla tradizione e le panchine artistiche di SentArte.Ritrovo presso ufficio turistico.
STATUS:CONFIRMED
END:VEVENT
END:VCALENDAR