BEGIN:VCALENDAR
VERSION:2.0
PRODID:-//primiero.events//Incontriamoci a Palazzo: il teatro di carta racconta//IT
CALSCALE:GREGORIAN
METHOD:PUBLISH
X-WR-TIMEZONE:UTC
X-WR-CALNAME:Incontriamoci a Palazzo: il teatro di carta racconta
X-WR-CALDESC:Incontriamoci a Palazzo: il teatro di carta racconta
X-WR-TIMEZONE:Europe/Rome
BEGIN:VEVENT
DTSTART;VALUE=DATE:
DTEND;VALUE=DATE:
DTSTAMP:20260422T112037Z
UID:@9ae4497488d30cc5c795bd99ac23553e@primiero.events
ORGANIZER;CN=Comunità di Primiero:MAILTO:webmaster@primiero.events
SUMMARY:Incontriamoci a Palazzo: il teatro di carta racconta
LOCATION:Palazzo Scopoli, Tonadico
DESCRIPTION:Giovedì 6 luglio"Il teatro di carta racconta": appuntamento dedicato ai bambini con il racconto "Mariarosa la Bibliotecaria"; a seguire un laboratorio curato da Liliana Simion e Daniela Danieletto. Ingresso libero.Tonadico, Palazzo Scopoli, ore 16.30Venerdì 14 luglio"Incontriamo la storia": conferenza "L'attività mineraria e la sua evoluzione nel tempo"; il professor Dino Preloran narrerà dell'evoluzione storica e tecnologica del lavoro in miniera durante i secoli. Ingresso libero. A seguire inaugurazione della mostra “L’umanità e il sottosuolo: l’attività mineraria tra volontà, fatica e ingegno” a cura della dottoressa Zaira Venzo﻿ e rinfresco.Tonadico, Palazzo Scopoli,ore 17.30Venerdì 21 luglio"Incontriamo la storia": conferenza "La metallurgia del rame nella Preistoria. Viaggio tra archeologia e tecnologia"; la professoressa Elena Silvestri parlerà del lavoro che l'archeologia sperimentale sta fornendo alla ricerca mineraria sull'antichità. Ingresso libero.Tonadico,&nbsp;Palazzo Scopoli,ore 17.30Martedì 25 luglio"Incontriamo la storia": conferenza “La vita nel tempo profondo: i fossili della Collezione Ligabue” a cura del professor Fabrizio Bizzarini e del Comitato Scientifico della Fondazione Giancarlo Ligabue.Tonadico,&nbsp;Palazzo Scopoli,ore 20.30﻿Venerdì 11 agosto"Incontriamo la storia": conferenza "Carne da miniera. Storie e stradi degli italiani invisibili nelle miniere del Belgio dal 1946 al 1973"; il professor Walter Basso presenterà il suo libro affrontando il delicato problema dell'emigrazione in Belgio nelle miniere di carbone, con tutti i suoi risvolti tragici e politici. Ingresso Libero.Tonadico,&nbsp;Palazzo Scopoli,ore 17.30Venerdì 18 agosto"Incontriamo la storia": conferenza "Il traforo del Monte Bianco, nel cinquantenario della sua realizzazione"; il professor Giuseppe Croce racconterà della sua personale esperienza nella realizzazione del traforo e di tutto quello che questo scavo ha portato con sè. Ingresso libero.Tonadico,Palazzo Scopoli,ore 17.30
STATUS:CONFIRMED
END:VEVENT
END:VCALENDAR