BEGIN:VCALENDAR
VERSION:2.0
PRODID:-//primiero.events//San Martino by Night//IT
CALSCALE:GREGORIAN
METHOD:PUBLISH
X-WR-TIMEZONE:UTC
X-WR-CALNAME:San Martino by Night
X-WR-CALDESC:San Martino by Night
X-WR-TIMEZONE:Europe/Rome
BEGIN:VEVENT
DTSTART;VALUE=DATE:
DTEND;VALUE=DATE:
DTSTAMP:20260422T110538Z
UID:@6b2795a7a7b4d34aa784d2fc57af4086@primiero.events
ORGANIZER;CN=Comunità di Primiero:MAILTO:webmaster@primiero.events
SUMMARY:San Martino by Night
LOCATION:San Martino di Castrozza, TN
DESCRIPTION:6 luglio 2017Suona la "Gnuco Alpen Sgnapa Band"Dalle ore 21.00alle&nbsp;ore 23.0013 luglio 2017Spettacolo "Trento Trentino Trio Toni Marci"﻿Dalle&nbsp;ore 21.00alleore 23.0020 luglio 2017Sonanano i "Panic 4eT"Dalle&nbsp;ore 21.00alle&nbsp;ore 23.0027 luglio 2017Spettacolo dei "Toni Marci"Dalle&nbsp;ore 21.00alleore 23.00&nbsp;29 luglio 2017&nbsp;Lilian Stoinenov ﻿all'organo della Chiesa di San Martino.Dalle&nbsp;ore 21.003 agosto 2017Canta il Coro Sass Maor.Dalle&nbsp;ore 21.00alle&nbsp;ore 23.0010 agosto 2017Sonanano i "Panic 4eT"Dalle&nbsp;ore 21.00alle&nbsp;ore 23.0015 agosto 2017: Speciale Concerto di Ferragosto!Concerto Tributo ai "TOTO"Dalle&nbsp;ore 21.00alle&nbsp;ore 00.0017 agosto 2017"Angel" di Laura LanerDalle&nbsp;ore 21.00alle&nbsp;ore 23.0019 agosto 2017Speciale Tributo a Renato ZeroDalle&nbsp;ore 21.00alle&nbsp;ore 23.0024 agosto 2017Sonanano i "Panic 4eT"Dalle&nbsp;ore 21.00alle&nbsp;ore 23.0031 agosto 2017Tributo a Renato Zero&nbsp;Dalle&nbsp;ore 21.00alle&nbsp;ore 23.00﻿
STATUS:CONFIRMED
END:VEVENT
END:VCALENDAR