BEGIN:VCALENDAR
VERSION:2.0
PRODID:-//primiero.events//E-bike Tour by Night al Passo Gobbera//IT
CALSCALE:GREGORIAN
METHOD:PUBLISH
X-WR-TIMEZONE:UTC
X-WR-CALNAME:E-bike Tour by Night al Passo Gobbera
X-WR-CALDESC:E-bike Tour by Night al Passo Gobbera
X-WR-TIMEZONE:Europe/Rome
BEGIN:VEVENT
DTSTART;VALUE=DATE:
DTEND;VALUE=DATE:
DTSTAMP:20260422T111531Z
UID:@308015ab7a31ebc9b9c9a13d440bcecc@primiero.events
ORGANIZER;CN=Comunità di Primiero:MAILTO:webmaster@primiero.events
SUMMARY:E-bike Tour by Night al Passo Gobbera
LOCATION:Fiera di Primiero, TN
DESCRIPTION:Guidati da un'esperta guida Mtb, da Fiera di Primiero, lungo sentieri e strade forestali fino a raggiungere il Passo Gobbera. Al termine dell'escursione, piazza in compagnia. Info e prenotazione obbligatoria: Primiero Bike, Tel. 3452312850 entro le ore 12.00 del giorno precedente. Ritrovo presso l'Autostazione.
STATUS:CONFIRMED
END:VEVENT
END:VCALENDAR