BEGIN:VCALENDAR
VERSION:2.0
PRODID:-//primiero.events//Friday Night in E-bike in Val Canali //IT
CALSCALE:GREGORIAN
METHOD:PUBLISH
X-WR-TIMEZONE:UTC
X-WR-CALNAME:Friday Night in E-bike in Val Canali 
X-WR-CALDESC:Friday Night in E-bike in Val Canali 
X-WR-TIMEZONE:Europe/Rome
BEGIN:VEVENT
DTSTART;VALUE=DATE:
DTEND;VALUE=DATE:
DTSTAMP:20260422T110411Z
UID:@eaefaf0e5b0aee8d7f69514331959fee@primiero.events
ORGANIZER;CN=Comunità di Primiero:MAILTO:webmaster@primiero.events
SUMMARY:Friday Night in E-bike in Val Canali 
LOCATION:Fiera di Primiero, TN
DESCRIPTION:Guidati da un'esperta guida Mtb, transfer da Fiera di Primiero fino a Val Canali dove pedaleremo lungo sentieri immersi nei boschi incantati fino a raggiungere il rifugio dove si cenerà in compagnia. Info e prenotazione obbligatoria: Primiero Bike, Tel. 3452312850 entro le ore 12.00 del giorno precedente. Ritrovo presso l'Autotazione.
STATUS:CONFIRMED
END:VEVENT
END:VCALENDAR