BEGIN:VCALENDAR
VERSION:2.0
PRODID:-//primiero.events//Mini Fashion Dance Serata Bambini//IT
CALSCALE:GREGORIAN
METHOD:PUBLISH
X-WR-TIMEZONE:UTC
X-WR-CALNAME:Mini Fashion Dance Serata Bambini
X-WR-CALDESC:Mini Fashion Dance Serata Bambini
X-WR-TIMEZONE:Europe/Rome
BEGIN:VEVENT
DTSTART;VALUE=DATE:
DTEND;VALUE=DATE:
DTSTAMP:20260422T111704Z
UID:@61a6f8d6f0ae1d149363827b69dcc3c0@primiero.events
ORGANIZER;CN=Comunità di Primiero:MAILTO:webmaster@primiero.events
SUMMARY:Mini Fashion Dance Serata Bambini
LOCATION:Transacqua-Piazza S.Marco, Transacqua, TN
DESCRIPTION:Trucca bimbi, palloncini, giochi e tanto divertimento.
STATUS:CONFIRMED
END:VEVENT
END:VCALENDAR