BEGIN:VCALENDAR
VERSION:2.0
PRODID:-//primiero.events//Mini Fashion Dance//IT
CALSCALE:GREGORIAN
METHOD:PUBLISH
X-WR-TIMEZONE:UTC
X-WR-CALNAME:Mini Fashion Dance
X-WR-CALDESC:Mini Fashion Dance
X-WR-TIMEZONE:Europe/Rome
BEGIN:VEVENT
DTSTART;VALUE=DATE:
DTEND;VALUE=DATE:
DTSTAMP:20260422T110850Z
UID:@29dc26e309a3069ff4ca6d804d3a43da@primiero.events
ORGANIZER;CN=Comunità di Primiero:MAILTO:webmaster@primiero.events
SUMMARY:Mini Fashion Dance
LOCATION:Transacqua-Piazza S.Marco, Transacqua, TN
DESCRIPTION:Welcome Show, presentazione del programma e servizi di valle.
STATUS:CONFIRMED
END:VEVENT
END:VCALENDAR