BEGIN:VCALENDAR
VERSION:2.0
PRODID:-//primiero.events//Mercato delle Pulci//IT
CALSCALE:GREGORIAN
METHOD:PUBLISH
X-WR-TIMEZONE:UTC
X-WR-CALNAME:Mercato delle Pulci
X-WR-CALDESC:Mercato delle Pulci
X-WR-TIMEZONE:Europe/Rome
BEGIN:VEVENT
DTSTART;VALUE=DATE:
DTEND;VALUE=DATE:
DTSTAMP:20260422T110718Z
UID:@c57672274cdfeefa51aa5ef98cc1a077@primiero.events
ORGANIZER;CN=Comunità di Primiero:MAILTO:webmaster@primiero.events
SUMMARY:Mercato delle Pulci
LOCATION:Fiera di Primiero, TN
DESCRIPTION:Ritrovo presso il Centro Storico.
STATUS:CONFIRMED
END:VEVENT
END:VCALENDAR