BEGIN:VCALENDAR
VERSION:2.0
PRODID:-//primiero.events//6° Memorial Renato Andriusi Torneo di Calcio a 7//IT
CALSCALE:GREGORIAN
METHOD:PUBLISH
X-WR-TIMEZONE:UTC
X-WR-CALNAME:6° Memorial Renato Andriusi Torneo di Calcio a 7
X-WR-CALDESC:6° Memorial Renato Andriusi Torneo di Calcio a 7
X-WR-TIMEZONE:Europe/Rome
BEGIN:VEVENT
DTSTART;VALUE=DATE:20170708
DTEND;VALUE=DATE:20170709
DTSTAMP:20260422T111849Z
UID:@52a54065d30bb6c4fc445089603d410a@primiero.events
ORGANIZER;CN=Comunità di Primiero:MAILTO:webmaster@primiero.events
SUMMARY:6° Memorial Renato Andriusi Torneo di Calcio a 7
LOCATION:Siror, TN
DESCRIPTION:Torneo di calcio a 7 orgamizzato in memoria di Renato Andriusi, accompagnato da musica e da stand gastronomico.Possono partecipare tutti dai 14 anni in su e la quota prevista per ogni squadra è di 200€.&nbsp;I premi previsti sono dal primo al quarto posto, miglior portiere, miglior capocannoniere, squadra simpatia e Coppa Chiosco﻿.Siror, Campo Sportivo,&nbsp;dal mattino
STATUS:CONFIRMED
END:VEVENT
END:VCALENDAR