BEGIN:VCALENDAR
VERSION:2.0
PRODID:-//primiero.events//Serata Musicale//IT
CALSCALE:GREGORIAN
METHOD:PUBLISH
X-WR-TIMEZONE:UTC
X-WR-CALNAME:Serata Musicale
X-WR-CALDESC:Serata Musicale
X-WR-TIMEZONE:Europe/Rome
BEGIN:VEVENT
DTSTART;VALUE=DATE:20170901
DTEND;VALUE=DATE:20170902
DTSTAMP:20260422T110727Z
UID:@50dcb4fac2593ab198cd6bfd3439e3cc@primiero.events
ORGANIZER;CN=Comunità di Primiero:MAILTO:webmaster@primiero.events
SUMMARY:Serata Musicale
LOCATION:Fiera di Primiero, TN
DESCRIPTION:Musica presso il centro storico.
STATUS:CONFIRMED
END:VEVENT
END:VCALENDAR