BEGIN:VCALENDAR
VERSION:2.0
PRODID:-//primiero.events//Primiero EX3ME//IT
CALSCALE:GREGORIAN
METHOD:PUBLISH
X-WR-TIMEZONE:UTC
X-WR-CALNAME:Primiero EX3ME
X-WR-CALDESC:Primiero EX3ME
X-WR-TIMEZONE:Europe/Rome
BEGIN:VEVENT
DTSTART;VALUE=DATE:
DTEND;VALUE=DATE:
DTSTAMP:20260422T112836Z
UID:@a3ae57230d150496e5de442748d47509@primiero.events
ORGANIZER;CN=Comunità di Primiero:MAILTO:webmaster@primiero.events
SUMMARY:Primiero EX3ME
LOCATION:San Martino di Castrozza, TN
DESCRIPTION:Quarta edizione della Primiero Ex3Me, il primo&nbsp;Mountain Triathlon delle Dolomiti, che vede come terreno di gara l’Alpe Tognola ed il Colverde. La sfida è tra squadre composte da tre atleti, ognuno maggiormente esperto in running, o in MTB per affrontare faticose salite ed adrenaliniche discese.Gara combinata di MTB e corsa in montagna divisa in tre fasi:Mtb UpHillall'Alpe TognolaDownhilllungo la Bike ArenaCorsa in salita&nbsp;a piedi fino a Colverde e rientroSi può effettuare a squadre, con staffetta delle tre frazioni o per i più temerari tutte e tre le prove da soli.Per informazioni ed iscrizioni, visita il sito&nbsp;primieroex3meSan Martino di Castrozza, dal mattino
STATUS:CONFIRMED
END:VEVENT
END:VCALENDAR