BEGIN:VCALENDAR
VERSION:2.0
PRODID:-//primiero.events//Escursione in E-bike per sentieri e antichi percorsi//IT
CALSCALE:GREGORIAN
METHOD:PUBLISH
X-WR-TIMEZONE:UTC
X-WR-CALNAME:Escursione in E-bike per sentieri e antichi percorsi
X-WR-CALDESC:Escursione in E-bike per sentieri e antichi percorsi
X-WR-TIMEZONE:Europe/Rome
BEGIN:VEVENT
DTSTART;VALUE=DATE:
DTEND;VALUE=DATE:
DTSTAMP:20260422T110412Z
UID:@c500267dfb54811dbdddcddb980ebf3d@primiero.events
ORGANIZER;CN=Comunità di Primiero:MAILTO:webmaster@primiero.events
SUMMARY:Escursione in E-bike per sentieri e antichi percorsi
LOCATION:Fiera di Primiero, TN
DESCRIPTION:Escursione guidata con Guida &nbsp;cicloturistica della Scuola MTB Primiero Bike attraverso sentieri e antichi percorsi visitando i luoghi più suggestivi ai piedi delle Pale di San Martino di Castrozza. Info e prenotazione obbligatoria: Primiero Bike, Tel.3452312850 entro le ore 12.00 del giorno precedente.
STATUS:CONFIRMED
END:VEVENT
END:VCALENDAR