BEGIN:VCALENDAR
VERSION:2.0
PRODID:-//primiero.events//Primiero Incontri//IT
CALSCALE:GREGORIAN
METHOD:PUBLISH
X-WR-TIMEZONE:UTC
X-WR-CALNAME:Primiero Incontri
X-WR-CALDESC:Primiero Incontri
X-WR-TIMEZONE:Europe/Rome
BEGIN:VEVENT
DTSTART;VALUE=DATE:20170808
DTEND;VALUE=DATE:20170809
DTSTAMP:20260422T110559Z
UID:@4230cfdc20bf3c41666fbbfa015aebfe@primiero.events
ORGANIZER;CN=Comunità di Primiero:MAILTO:webmaster@primiero.events
SUMMARY:Primiero Incontri
LOCATION:TN
DESCRIPTION:Martedì 11 luglio“Chiara d’Assisi: tra stabilità ed itineranza”, con le Clarisse Cappuccine.Tonadico, Monastero delle Clarisse, ore 20.45Mercoledì 19 luglio﻿“Una montagna di misericordia”: la grande bellezza del Purgatorio di Dante, con Gregorio Vivaldelli.Pieve,&nbsp;Oratorio,ore 20.45﻿Venerdì 28 luglio“Non temere io sono con te”: comunicare speranza e fiducia nel nostro tempo; introduce Diego Andreatta, direttore di “Vita Trentina”, con Mons. Ivan Maffeis, sottosegretario della Conferenza Episcopale Italiana.Pieve,&nbsp;Oratorio,ore 20.45Lunedì 31 luglio﻿“Anche il Primiero terra di santità”: la beata Maria Serafina Micheli.Pieve,&nbsp;Oratorio,ore 20.45﻿Martedì 8 agosto“Quando la terra ed il cuore tremano”: con Mons. Giovanni D’Ercole, vescovo di Ascoli Piceno.San Martino di Castrozza,&nbsp;Sala Congressi,ore 21.00Mercoledì 9 agosto“Quando la terra ed il cuore tremano”: con Mons. Giovanni D’Ercole, vescovo di Ascoli Piceno.Pieve,&nbsp;Oratorio,ore 20.45Venerdì 11 agosto﻿“Chiara d’Assisi: icona di vita nuova”, con le Clarisse Cappuccine.Tonadico,&nbsp;Monastero delle Clarisse,ore 20.45﻿Mercoledì 16 agosto“In viaggio con Papa Francesco”, con Andrea Tornielli, vaticanista de “La Stampa”.Pieve,&nbsp;Oratorio,ore 20.45Mercoeldì 30 agosto﻿“La mia battaglia nella terra dei fuochi”, con don Maurizio Patriciello da Caivano, Terra dei Fuochi, Napoli.Pieve,&nbsp;Oratorio,ore 20.45﻿
STATUS:CONFIRMED
END:VEVENT
END:VCALENDAR