BEGIN:VCALENDAR
VERSION:2.0
PRODID:-//primiero.events//I Suoni delle Dolomiti//IT
CALSCALE:GREGORIAN
METHOD:PUBLISH
X-WR-TIMEZONE:UTC
X-WR-CALNAME:I Suoni delle Dolomiti
X-WR-CALDESC:I Suoni delle Dolomiti
X-WR-TIMEZONE:Europe/Rome
BEGIN:VEVENT
DTSTART;VALUE=DATE:
DTEND;VALUE=DATE:
DTSTAMP:20260422T110400Z
UID:@f049e6c94383af7a3c480a7469a5efd4@primiero.events
ORGANIZER;CN=Comunità di Primiero:MAILTO:webmaster@primiero.events
SUMMARY:I Suoni delle Dolomiti
LOCATION:Villa Welsperg Parco Naturale, TN
DESCRIPTION:Sono quasi cinquant'anni, dal debutto discografico del 1968 con l'album “Tones for Joan’s Bones”, che Chick Corea&nbsp;esplora in chiave jazz ogni angolo della creatività musicale dall'avanguardia al bebop, dalle canzoni per bambini alla fusion e persino alle esaltanti incursioni nella musica classica.&nbsp;Ora torna con una straordinaria carica d'energia grazie al sodalizio con un altro grande musicista:&nbsp;Béla Fleck, virtuoso del banjo, cui si devono numerosi lavori e album che raccontano uno strumento che attraversa l'anima degli Stati Uniti e senza il quale non potremmo pensare a un'anima per il blues e il jazz.Ingresso liberoVal Canali,Villa Welsperg, ore 13.00&nbsp;
STATUS:CONFIRMED
END:VEVENT
END:VCALENDAR