BEGIN:VCALENDAR
VERSION:2.0
PRODID:-//primiero.events//Pale di San Martino: Montagne da Fiaba!//IT
CALSCALE:GREGORIAN
METHOD:PUBLISH
X-WR-TIMEZONE:UTC
X-WR-CALNAME:Pale di San Martino: Montagne da Fiaba!
X-WR-CALDESC:Pale di San Martino: Montagne da Fiaba!
X-WR-TIMEZONE:Europe/Rome
BEGIN:VEVENT
DTSTART;VALUE=DATE:20170713
DTEND;VALUE=DATE:20170715
DTSTAMP:20260422T110554Z
UID:@b340c5e14c1418be4bbc083ee9c1b539@primiero.events
ORGANIZER;CN=Comunità di Primiero:MAILTO:webmaster@primiero.events
SUMMARY:Pale di San Martino: Montagne da Fiaba!
LOCATION:
DESCRIPTION:Cogli l’opportunità d’incontrare un mondo fantastico, di impararne le regole e di esserne parte. Spettacoli, passeggiate, laboratori, compongono i pezzi di un unico puzzle che si sviluppa sul territorio, rilevando la bellezza dei luoghi che diventano la cornice naturale in cui bambini e genitori vivono un’esperienza condivisa, capace di arricchirli vicendevolmente.Agli spettacoli, tutti ad altissimo livello, si aggiungono le passeggiate, dove in luoghi di particolare fascinazione i bambini possono incontrare i loro beniamini al di fuori del contesto scenico, per stabilire un rapporto di amicizia e conoscenza, infrangendo la barriera del palcoscenico. Protagonisti degli incontri, sono i professionisti di chiara fama nazionale,&nbsp;i laboratori culinari di&nbsp;Natalia Cattelani, a cui si aggiunge l’esperienza e la professionalità di&nbsp;ArmandoTraverso, autore e conduttore radio televisivo, figura di spicco nel panorama della televisione per bambini e ragazzi, ideatore e Testimonial della manifestazione. &nbsp;L’evento si articola tra il&nbsp;13&nbsp;e il15 luglio.﻿ProgrammaGiovedì 13 luglioPasseggiata nella natura con Armando Traverso e gli operatori del Parco di Paneveggio verso Malga Civertaghe, alla scoperta dei segreti del bosco.San Martino di Castrozza, Piazzetta La Crodaroi,&nbsp;ore 10.00"La chiave del Bosco dei Sogni", Armando Traverso presenta una stravagante e selvaggia caccia al tesoro...San Martino di Castrozza,Malga Civertaghe,ore 14.00"Piccoli Chef", spettacolo culinario con Natalia Cattellani de "La Prova del Cuoco".Fiera di Primiero, Piazza Cesare Battisti,&nbsp;ore 18.00Venerdì 14 luglio"Alla ricerca della lanterna magica", orienteering con Armando Traverso e gli esperti dell'U.S. Primiero per concludere al Bar "Scoiattolo" con piacevoli sorprese.San Martino di Castrozza, Piazzetta Crodaroi,&nbsp;ore 10.00﻿"Piccoli Chef", spettacolo culinario con Natalia Cattellani de "La Prova del Cuoco".San Martino di Castrozza, Piazzetta La Crodaroi,&nbsp;ore 18.00﻿Sabato 15 luglio"L'incantesimo del Mazaròl", Armando Traverso presenta: dalla panna al burro alla... merenda sana e gustosa!San Martino di Castrozza, Maso Col,&nbsp;ore 10.00"Desmonteg-Art", il primo concorso di disegno per bambini in attesa della Desmontegada! Disegna la tua mucca in compagnia di Armando Traverso.San Martino di Castrozza,&nbsp;Maso Col,ore 11.00Armando Traverso presenta lo spettacolo con le "Winx".San Martino di Castrozza,&nbsp;Sala Congressi,&nbsp;ore 17.00﻿Armando Traverso presenta lo spettacolo con le "Winx".﻿Fiera di Primiero, Auditorium,&nbsp;ore 21.00﻿
STATUS:CONFIRMED
END:VEVENT
END:VCALENDAR