BEGIN:VCALENDAR
VERSION:2.0
PRODID:-//primiero.events//Fieraincontri//IT
CALSCALE:GREGORIAN
METHOD:PUBLISH
X-WR-TIMEZONE:UTC
X-WR-CALNAME:Fieraincontri
X-WR-CALDESC:Fieraincontri
X-WR-TIMEZONE:Europe/Rome
BEGIN:VEVENT
DTSTART;VALUE=DATE:
DTEND;VALUE=DATE:
DTSTAMP:20260422T110722Z
UID:@d0e3ec4d938896f8836d87b48600c340@primiero.events
ORGANIZER;CN=Comunità di Primiero:MAILTO:webmaster@primiero.events
SUMMARY:Fieraincontri
LOCATION:Palazzo Scopoli, Tonadico
DESCRIPTION:"L'attività mineraria e la sua evoluzione nel tempo". Il prof. Dino Preloran narrerà l'evoluzione storica e tecnologica del lavoro in miniera durante i secoli, ritrovo al palazzo scopoli.
STATUS:CONFIRMED
END:VEVENT
END:VCALENDAR