BEGIN:VCALENDAR
VERSION:2.0
PRODID:-//primiero.events//Circuito Minibike//IT
CALSCALE:GREGORIAN
METHOD:PUBLISH
X-WR-TIMEZONE:UTC
X-WR-CALNAME:Circuito Minibike
X-WR-CALDESC:Circuito Minibike
X-WR-TIMEZONE:Europe/Rome
BEGIN:VEVENT
DTSTART;VALUE=DATE:
DTEND;VALUE=DATE:
DTSTAMP:20260422T110428Z
UID:@8f2911ce1ed5282fc4c0368a8a63cd1c@primiero.events
ORGANIZER;CN=Comunità di Primiero:MAILTO:webmaster@primiero.events
SUMMARY:Circuito Minibike
LOCATION:Prà delle Nasse, TN
DESCRIPTION:Settima prova del “Circuito Minibike Fiemme Fassa e Primiero”, prenotazioni al 345-2312850. Costo €6,00.San Martino di Castrozza, ritrovo al Prà dele Nasse ore 13.30, partenza alle&nbsp;ore 15.30&nbsp;
STATUS:CONFIRMED
END:VEVENT
END:VCALENDAR