BEGIN:VCALENDAR
VERSION:2.0
PRODID:-//primiero.events//"Briciole sul Davanzale"//IT
CALSCALE:GREGORIAN
METHOD:PUBLISH
X-WR-TIMEZONE:UTC
X-WR-CALNAME:"Briciole sul Davanzale"
X-WR-CALDESC:"Briciole sul Davanzale"
X-WR-TIMEZONE:Europe/Rome
BEGIN:VEVENT
DTSTART;VALUE=DATE:
DTEND;VALUE=DATE:
DTSTAMP:20260422T110843Z
UID:@a8b5420915f3d12e5a20a0b2f4723d3a@primiero.events
ORGANIZER;CN=Comunità di Primiero:MAILTO:webmaster@primiero.events
SUMMARY:"Briciole sul Davanzale"
LOCATION:Centro congressi di San Martino, Siror
DESCRIPTION:Presentazione del romanzo di Marinella Michelotto ispirato alla vita di una donna realmente esistita, della quale Maria Teresa Zanoner conserva ancora il suo breve diario e delle lettere. Da queste testimonianze scritte e dai miei ricordi, l'autrice Marinella Michielotto ha realizzato un romanzo che ripercorre, tra fantasia e realtà, il peculiare vissuto di questa donna.Come scrive il dott. Fabrizio Mattevi nella prefazione: "Ci pare di conoscere realmente questa donna, unica e singolare, di coglierne il carattere ed ammirarne la forza d'animo. Al contempo, soffrendo per le sue lacrime, gioendo del suo amore, commuovendoci per la sua tenerezza, ci riconosciamo in lei, nei moti del suo cuore e attraverso di lei riviviamo noi stessi e la nostra storia interiore".Con Cornelia dell’Eva e Maria Teresa Zanoner.﻿San Martino di Castrozza,&nbsp;Sala Congressi,&nbsp;ore 21.15
STATUS:CONFIRMED
END:VEVENT
END:VCALENDAR