BEGIN:VCALENDAR
VERSION:2.0
PRODID:-//primiero.events//Ricicliamo in Fiera//IT
CALSCALE:GREGORIAN
METHOD:PUBLISH
X-WR-TIMEZONE:UTC
X-WR-CALNAME:Ricicliamo in Fiera
X-WR-CALDESC:Ricicliamo in Fiera
X-WR-TIMEZONE:Europe/Rome
BEGIN:VEVENT
DTSTART;VALUE=DATE:
DTEND;VALUE=DATE:
DTSTAMP:20260422T110427Z
UID:@625225680519f6a8566285a8fe964658@primiero.events
ORGANIZER;CN=Comunità di Primiero:MAILTO:webmaster@primiero.events
SUMMARY:Ricicliamo in Fiera
LOCATION:Fiera di Primiero, TN
DESCRIPTION:Laboratorio di riciclo ricreativo per bambini.
STATUS:CONFIRMED
END:VEVENT
END:VCALENDAR