BEGIN:VCALENDAR
VERSION:2.0
PRODID:-//primiero.events//Alla Scoperta di Imèr//IT
CALSCALE:GREGORIAN
METHOD:PUBLISH
X-WR-TIMEZONE:UTC
X-WR-CALNAME:Alla Scoperta di Imèr
X-WR-CALDESC:Alla Scoperta di Imèr
X-WR-TIMEZONE:Europe/Rome
BEGIN:VEVENT
DTSTART;VALUE=DATE:
DTEND;VALUE=DATE:
DTSTAMP:20260421T171757Z
UID:@3a9d771c3f6e38d6c607e0024899dca6@primiero.events
ORGANIZER;CN=Comune di Imer:MAILTO:webmaster@primiero.events
SUMMARY:Alla Scoperta di Imèr
LOCATION:Imer, TN
DESCRIPTION:Visita al centro storico alla scoperta dell'architettura di montagna, la pittura popolare, la chiesa, i luoghi cari alla tradizione e le panchine artistiche di Sent Arte.
STATUS:CONFIRMED
END:VEVENT
END:VCALENDAR