BEGIN:VCALENDAR
VERSION:2.0
PRODID:-//primiero.events//Diario di Guerra: Leonardo Barcher in Galizia//IT
CALSCALE:GREGORIAN
METHOD:PUBLISH
X-WR-TIMEZONE:UTC
X-WR-CALNAME:Diario di Guerra: Leonardo Barcher in Galizia
X-WR-CALDESC:Diario di Guerra: Leonardo Barcher in Galizia
X-WR-TIMEZONE:Europe/Rome
BEGIN:VEVENT
DTSTART;VALUE=DATE:
DTEND;VALUE=DATE:
DTSTAMP:20260422T112015Z
UID:@e0958986e0c8ab4014a3498d64d22f54@primiero.events
ORGANIZER;CN=Comunità di Primiero:MAILTO:webmaster@primiero.events
SUMMARY:Diario di Guerra: Leonardo Barcher in Galizia
LOCATION:Centro congressi di San Martino, Siror
DESCRIPTION:Serata con lo storico Quinto Antonelli che presenterà con Angelo Longo e Luca Brunet un diario di guerra e un epistolario di Leonardo Bancher.
STATUS:CONFIRMED
END:VEVENT
END:VCALENDAR