BEGIN:VCALENDAR
VERSION:2.0
PRODID:-//primiero.events//Cheesenic sul Balcone delle Dolomiti UNESCO//IT
CALSCALE:GREGORIAN
METHOD:PUBLISH
X-WR-TIMEZONE:UTC
X-WR-CALNAME:Cheesenic sul Balcone delle Dolomiti UNESCO
X-WR-CALDESC:Cheesenic sul Balcone delle Dolomiti UNESCO
X-WR-TIMEZONE:Europe/Rome
BEGIN:VEVENT
DTSTART;VALUE=DATE:
DTEND;VALUE=DATE:
DTSTAMP:20260422T111601Z
UID:@df8bebe06a414f399936b76c7a1a8750@primiero.events
ORGANIZER;CN=Comunità di Primiero:MAILTO:webmaster@primiero.events
SUMMARY:Cheesenic sul Balcone delle Dolomiti UNESCO
LOCATION:Alpe tognola, San Martino di Castrozza
DESCRIPTION:Come tavolo un prato di fiori, come piatto un goloso cestino con formaggi e prodotti&nbsp;locali, come parete la natura delle Dolomiti… eccovi servito il nostro CheeseNic,&nbsp;il &nbsp;tuo &nbsp;“pranzo &nbsp;al &nbsp;sacco” &nbsp;a &nbsp;km0, &nbsp;disponibile in uno dei ristoranti, malghe e rifugi&nbsp;aderenti alla Strada &nbsp;dei &nbsp;formaggi &nbsp;delle&nbsp;Dolomiti. ﻿Ecco i due imperdibili appuntamenti!Venerdì 21 luglio 2017Evento organizzato in collaborazione con la Strada dei Formaggi delle Dolomiti e l’Agritur Dalaip dei Pape.Pic-nic a base di prodotti tipici della Valle di Primiero con degustazione in uno dei luoghi più affascinanti delle Dolomiti, in compagnia del titolare dell’Agritur Dalaip dei Pape il quale offrirà ai presenti un assaggio delle confetture e dei succhi di loro produzione, in abbinamento ai formaggi del Caseificio di Primiero.&nbsp;Venerdì 4 agosto 2017Evento organizzato in collaborazione con la Strada dei Formaggi delle Dolomiti e il Parco Naturale Paneveggio - Pale di San Martino.&nbsp;Pic-nic a base di prodotti tipici della Valle di Primiero con degustazione in uno dei luoghi più affascinanti delle Dolomiti, in compagnia di un Guardia Parco il quale racconterà agli ospiti le peculiarità del territorio in cui ci troviamo trattando aspetti legati alla flora, alla fauna e alla geologia.&nbsp;Info e booking:Tel. 0439-68026 - mail:&nbsp;infopoint@tognola.it﻿San Martino di Castrozza, Alpe Tognola,&nbsp;ore 10.00
STATUS:CONFIRMED
END:VEVENT
END:VCALENDAR