BEGIN:VCALENDAR
VERSION:2.0
PRODID:-//primiero.events//Chi Mangia.. Mangi//IT
CALSCALE:GREGORIAN
METHOD:PUBLISH
X-WR-TIMEZONE:UTC
X-WR-CALNAME:Chi Mangia.. Mangi
X-WR-CALDESC:Chi Mangia.. Mangi
X-WR-TIMEZONE:Europe/Rome
BEGIN:VEVENT
DTSTART;VALUE=DATE:20170722
DTEND;VALUE=DATE:20170723
DTSTAMP:20260422T110536Z
UID:@b79f6dd351630fb249df6535efc373b1@primiero.events
ORGANIZER;CN=Comunità di Primiero:MAILTO:webmaster@primiero.events
SUMMARY:Chi Mangia.. Mangi
LOCATION:San Martino di Castrozza, TN
DESCRIPTION:"Regnava in Primiero l’antichissima consuetudine delle così dette “Sagre di San Martino in Castrozza”&nbsp;dove, dopo aver ascoltato la Santa Messa in canto, al grido di“Chi mangia mangi”veniva servita ai poveri agli artigiani e contadini distinti, e indi ai Signori, giunti dalla valle in processione, la minestra di fave oltre alla polenta e formaggio a sazietà..."&nbsp;Tratto dalle Memorie di Angelo Michele Negrelli (1764-1851)ProgrammaSabato 22 luglio:&nbsp;apertura del villaggio medievale del&nbsp;Gruppo Academia Sodalitas Ecelinorum, intrattenimento e laboratori per i più piccoli, introduzione storica e assaggio delle "pape dei viandanti".&nbsp;San Martino di Castrozza, Piazzale Ex Cinema Bucaneve, dalle ore 17.00Domenica 23 luglio:&nbsp;corteo dei viandanti dalle ore 10.00 presso la Chiesa e introduzione storica; a seguire, Ss. Messa alla presenza dei figuranti, sfilata con gli sbandieratori&nbsp;Quartiere Castello Feltre&nbsp;per le vie del paese e pranzo della tradizione "Chi mangia mangi" presso i tendoni nel piazzale ex Cinema Bucaneve (a pagamento) con apertura del villaggio e laboratorio per bambini a cura del gruppo giovani.San Martino di Castrozza, Chiesa e centro paese, dalle&nbsp;ore 10.00
STATUS:CONFIRMED
END:VEVENT
END:VCALENDAR