BEGIN:VCALENDAR
VERSION:2.0
PRODID:-//primiero.events//Mercato dei Saperi//IT
CALSCALE:GREGORIAN
METHOD:PUBLISH
X-WR-TIMEZONE:UTC
X-WR-CALNAME:Mercato dei Saperi
X-WR-CALDESC:Mercato dei Saperi
X-WR-TIMEZONE:Europe/Rome
BEGIN:VEVENT
DTSTART:T10:00:00
DTEND:T16:00:00
DTSTAMP:20260422T110412Z
UID:@ce0435f61b4226eb76df0574ee894818@primiero.events
ORGANIZER;CN=Comunità di Primiero:MAILTO:webmaster@primiero.events
SUMMARY:Mercato dei Saperi
LOCATION:Prà delle Nasse, TN
DESCRIPTION:Mercato di prodotti artigianali e agricoli locali.
STATUS:CONFIRMED
END:VEVENT
END:VCALENDAR