BEGIN:VCALENDAR
VERSION:2.0
PRODID:-//primiero.events//Dolomitincontri: Paola Calvetti//IT
CALSCALE:GREGORIAN
METHOD:PUBLISH
X-WR-TIMEZONE:UTC
X-WR-CALNAME:Dolomitincontri: Paola Calvetti
X-WR-CALDESC:Dolomitincontri: Paola Calvetti
X-WR-TIMEZONE:Europe/Rome
BEGIN:VEVENT
DTSTART;VALUE=DATE:
DTEND;VALUE=DATE:
DTSTAMP:20260422T111709Z
UID:@d8301db6d9720d7eafe0211b6a226939@primiero.events
ORGANIZER;CN=Comunità di Primiero:MAILTO:webmaster@primiero.events
SUMMARY:Dolomitincontri: Paola Calvetti
LOCATION:Centro congressi di San Martino, Siror
DESCRIPTION:Jacopo e Dasha, due voci smarrite sullo spartito della vita, sono in scena per il Doppio concerto per violino e violoncello di Johannes Brahms che, pagina dopo pagina, è l’occasione per rivivere - con un serrato e immaginifico dialogo – i passi della loro storia d’amore. Nel corso dell’esecuzione accadrà qualcosa di totalmente imprevisto…La musica si fa eco dell’amore e di una sconvolgente rivelazione, cui non può seguire altro se non un silenzio colmo d’ incanto.Paola Calvetti, giornalista, ha lavorato alla redazione milanese del quotidiano «la Repubblica» e scritto per il «Corriere della Sera» e il settimanale «Io Donna». Ha diretto l'Ufficio Stampa del Teatro alla Scala e, in seguito, è stata Direttore della Comunicazione del Touring Club Italiano e Direttore Comunicazione e Marketing dell’Opera di Firenze-Maggio Musicale Fiorentino. Finalista al premio Bancarella con il romanzo d’esordio,&nbsp;L'amore segreto. I suoi romanzi sono tradotti in Francia, Germania, Spagna, Albania, Giappone, Olanda, Stati Uniti.
STATUS:CONFIRMED
END:VEVENT
END:VCALENDAR