BEGIN:VCALENDAR
VERSION:2.0
PRODID:-//primiero.events//Appuntamento con la storia//IT
CALSCALE:GREGORIAN
METHOD:PUBLISH
X-WR-TIMEZONE:UTC
X-WR-CALNAME:Appuntamento con la storia
X-WR-CALDESC:Appuntamento con la storia
X-WR-TIMEZONE:Europe/Rome
BEGIN:VEVENT
DTSTART;VALUE=DATE:
DTEND;VALUE=DATE:
DTSTAMP:20260422T110411Z
UID:@3ab50c6bf2ddb90966eb2db821cf095b@primiero.events
ORGANIZER;CN=Comunità di Primiero:MAILTO:webmaster@primiero.events
SUMMARY:Appuntamento con la storia
LOCATION:Centro congressi di San Martino, Siror
DESCRIPTION:Una serata in compagnia di Marco Toffol e la storia di San Martino di Castrozza.
STATUS:CONFIRMED
END:VEVENT
END:VCALENDAR