BEGIN:VCALENDAR
VERSION:2.0
PRODID:-//primiero.events//Trentino Girofolk//IT
CALSCALE:GREGORIAN
METHOD:PUBLISH
X-WR-TIMEZONE:UTC
X-WR-CALNAME:Trentino Girofolk
X-WR-CALDESC:Trentino Girofolk
X-WR-TIMEZONE:Europe/Rome
BEGIN:VEVENT
DTSTART;VALUE=DATE:
DTEND;VALUE=DATE:
DTSTAMP:20260422T110600Z
UID:@1c11f53a81936a19f87c166dff5d860a@primiero.events
ORGANIZER;CN=Comunità di Primiero:MAILTO:webmaster@primiero.events
SUMMARY:Trentino Girofolk
LOCATION:Sagron Mis, TN
DESCRIPTION:Serata musicale con il gruppo "Uaragniaun". In collaborazione con FECCRIT e Pro Loco Sagron Mis.
STATUS:CONFIRMED
END:VEVENT
END:VCALENDAR