BEGIN:VCALENDAR
VERSION:2.0
PRODID:-//primiero.events//Mercato dell'Artigianato//IT
CALSCALE:GREGORIAN
METHOD:PUBLISH
X-WR-TIMEZONE:UTC
X-WR-CALNAME:Mercato dell'Artigianato
X-WR-CALDESC:Mercato dell'Artigianato
X-WR-TIMEZONE:Europe/Rome
BEGIN:VEVENT
DTSTART;VALUE=DATE:
DTEND;VALUE=DATE:
DTSTAMP:20260422T110400Z
UID:@09ce0c10de93b5828c1144b70e57952e@primiero.events
ORGANIZER;CN=Comunità di Primiero:MAILTO:webmaster@primiero.events
SUMMARY:Mercato dell'Artigianato
LOCATION:San Martino di Castrozza, TN
DESCRIPTION:Presso la Piazzetta La Crodaroi, dal mattino
STATUS:CONFIRMED
END:VEVENT
END:VCALENDAR