BEGIN:VCALENDAR
VERSION:2.0
PRODID:-//primiero.events//Il mercante di Legnate//IT
CALSCALE:GREGORIAN
METHOD:PUBLISH
X-WR-TIMEZONE:UTC
X-WR-CALNAME:Il mercante di Legnate
X-WR-CALDESC:Il mercante di Legnate
X-WR-TIMEZONE:Europe/Rome
BEGIN:VEVENT
DTSTART;VALUE=DATE:
DTEND;VALUE=DATE:
DTSTAMP:20260422T112037Z
UID:@64daadd94a2146903bc8ae8d002cd660@primiero.events
ORGANIZER;CN=Comunità di Primiero:MAILTO:webmaster@primiero.events
SUMMARY:Il mercante di Legnate
LOCATION:Tonadico, TN
DESCRIPTION:Spettacolo di burattini tradizionali, musica e rumori con Paolo Rech e Nelso Salton, in collaborazione con la Pro Loco Prade, Cicona e Zortea.
STATUS:CONFIRMED
END:VEVENT
END:VCALENDAR