BEGIN:VCALENDAR
VERSION:2.0
PRODID:-//primiero.events//Bergknappen 2017//IT
CALSCALE:GREGORIAN
METHOD:PUBLISH
X-WR-TIMEZONE:UTC
X-WR-CALNAME:Bergknappen 2017
X-WR-CALDESC:Bergknappen 2017
X-WR-TIMEZONE:Europe/Rome
BEGIN:VEVENT
DTSTART;VALUE=DATE:20170804
DTEND;VALUE=DATE:20170806
DTSTAMP:20260422T110719Z
UID:@cbf4c10d7172a4b9ba7264b8b82327f7@primiero.events
ORGANIZER;CN=Comunità di Primiero:MAILTO:webmaster@primiero.events
SUMMARY:Bergknappen 2017
LOCATION:Palazzo delle Miniere , Fiera di Primiero
DESCRIPTION:La manifestazione prende il nome da quello dei numerosi minatori&nbsp;che giunsero a Primiero da varie zone del Tirolo e dell'intero mondo germanico, i&nbsp;"Bergknappen".&nbsp;Il meraviglioso spazio circostante il Palazzo delle Miniere verrà valorizzato con dei momenti di "vissuto" medievale all'interno del Villaggio, posizionato nel giardino del Palazzo.&nbsp;Il Villaggio verrà animato da&nbsp;eventi spettacolarilegati al mondo minerario dell'epoca e ai famosi&nbsp;"canopi", minatori, anonimi eroi di questa straordinaria epopea.ProgrammaVenerdì 4 agostoApertura del villaggio minerario con rievocazione storica della vita dei minatori e della prima lavorazione del minerale, dalle&nbsp;ore 16.00alle&nbsp;ore 22.00. A seguire lo spettacolo “..di foreste, di guane, di incanti.. et altre storie”, alle&nbsp;ore 21.00Fiera di Primiero,&nbsp;giardini del Palazzo delle Miniere, dalleore 16.00Sabato 5 agostoApertura del villaggio minerario con rievocazione storica della vita dei minatori e della prima lavorazione del minerale, dalle&nbsp;ore 16.00alle&nbsp;ore 22.00.Fiera di Primiero,&nbsp;giardini del Palazzo delle Miniere, dalleore 16.00Domenica 6 agostoApertura del villaggio minerario con rievocazione storica della vita dei minatori e della prima lavorazione del minerale, dalle&nbsp;ore 16.00alle&nbsp;ore 22.00. A seguire lo spettacolo “..di foreste, di guane, di incanti.. et altre storie”, alle&nbsp;ore 21.00Fiera di Primiero,&nbsp;giardini del Palazzo delle Miniere, dalleore 16.00
STATUS:CONFIRMED
END:VEVENT
END:VCALENDAR