BEGIN:VCALENDAR
VERSION:2.0
PRODID:-//primiero.events//Motoseghe Storiche//IT
CALSCALE:GREGORIAN
METHOD:PUBLISH
X-WR-TIMEZONE:UTC
X-WR-CALNAME:Motoseghe Storiche
X-WR-CALDESC:Motoseghe Storiche
X-WR-TIMEZONE:Europe/Rome
BEGIN:VEVENT
DTSTART:20170805T10:00:00
DTEND:20170806T18:00:00
DTSTAMP:20260422T110718Z
UID:@452666c3cad04d915f72df74f91c013b@primiero.events
ORGANIZER;CN=Comunità di Primiero:MAILTO:webmaster@primiero.events
SUMMARY:Motoseghe Storiche
LOCATION:San Martino di Castrozza, TN
DESCRIPTION:Dimostrazione ed esibizione di motoseghe storiche da tutto il mondo presso Piazzetta La Crodaroi.
STATUS:CONFIRMED
END:VEVENT
END:VCALENDAR