BEGIN:VCALENDAR
VERSION:2.0
PRODID:-//primiero.events//Cena Medievale//IT
CALSCALE:GREGORIAN
METHOD:PUBLISH
X-WR-TIMEZONE:UTC
X-WR-CALNAME:Cena Medievale
X-WR-CALDESC:Cena Medievale
X-WR-TIMEZONE:Europe/Rome
BEGIN:VEVENT
DTSTART;VALUE=DATE:
DTEND;VALUE=DATE:
DTSTAMP:20260422T110747Z
UID:@e0555086bfbcfea436a44fff643e1825@primiero.events
ORGANIZER;CN=Comunità di Primiero:MAILTO:webmaster@primiero.events
SUMMARY:Cena Medievale
LOCATION:Fiera di Primiero, TN
DESCRIPTION:Con artisti medievali.
STATUS:CONFIRMED
END:VEVENT
END:VCALENDAR