BEGIN:VCALENDAR
VERSION:2.0
PRODID:-//primiero.events//Dolomitincontri//IT
CALSCALE:GREGORIAN
METHOD:PUBLISH
X-WR-TIMEZONE:UTC
X-WR-CALNAME:Dolomitincontri
X-WR-CALDESC:Dolomitincontri
X-WR-TIMEZONE:Europe/Rome
BEGIN:VEVENT
DTSTART;VALUE=DATE:
DTEND;VALUE=DATE:
DTSTAMP:20260422T110727Z
UID:@4e6d9f9d0793c3f723a2c5fb71a18ea6@primiero.events
ORGANIZER;CN=Comunità di Primiero:MAILTO:webmaster@primiero.events
SUMMARY:Dolomitincontri
LOCATION:Centro congressi di San Martino, Siror
DESCRIPTION:Intervista confidenziale di e con Enzo Iacchetti e la sua chitarra.
STATUS:CONFIRMED
END:VEVENT
END:VCALENDAR