BEGIN:VCALENDAR
VERSION:2.0
PRODID:-//primiero.events//Mercato dei Saperi//IT
CALSCALE:GREGORIAN
METHOD:PUBLISH
X-WR-TIMEZONE:UTC
X-WR-CALNAME:Mercato dei Saperi
X-WR-CALDESC:Mercato dei Saperi
X-WR-TIMEZONE:Europe/Rome
BEGIN:VEVENT
DTSTART:T09:00:00
DTEND:T12:30:00
DTSTAMP:20260422T110849Z
UID:@1a7e4540b92f2ae63b27072fb9d03768@primiero.events
ORGANIZER;CN=Comunità di Primiero:MAILTO:webmaster@primiero.events
SUMMARY:Mercato dei Saperi
LOCATION:Parco Clarofonte, Fiera di Primiero
DESCRIPTION:Mercato di prodotti &nbsp;artigianali e agricoli locali.
STATUS:CONFIRMED
END:VEVENT
END:VCALENDAR