BEGIN:VCALENDAR
VERSION:2.0
PRODID:-//primiero.events//Fiaccolata delle Guide Alpine//IT
CALSCALE:GREGORIAN
METHOD:PUBLISH
X-WR-TIMEZONE:UTC
X-WR-CALNAME:Fiaccolata delle Guide Alpine
X-WR-CALDESC:Fiaccolata delle Guide Alpine
X-WR-TIMEZONE:Europe/Rome
BEGIN:VEVENT
DTSTART;VALUE=DATE:
DTEND;VALUE=DATE:
DTSTAMP:20260422T110411Z
UID:@cb15221dbe1844600c2932bb95e10ae6@primiero.events
ORGANIZER;CN=Comunità di Primiero:MAILTO:webmaster@primiero.events
SUMMARY:Fiaccolata delle Guide Alpine
LOCATION:San Martino di Castrozza, TN
DESCRIPTION:Fiaccolata delle Guide Alpine che dalla Rosetta scenderanno al centro di San Martino.A breve il programma completo...La fiaccolata non è aperta al pubblico, ma visibile dal paese dalle 19.15 circa﻿
STATUS:CONFIRMED
END:VEVENT
END:VCALENDAR