BEGIN:VCALENDAR
VERSION:2.0
PRODID:-//primiero.events//Le Miniere Contese//IT
CALSCALE:GREGORIAN
METHOD:PUBLISH
X-WR-TIMEZONE:UTC
X-WR-CALNAME:Le Miniere Contese
X-WR-CALDESC:Le Miniere Contese
X-WR-TIMEZONE:Europe/Rome
BEGIN:VEVENT
DTSTART;VALUE=DATE:
DTEND;VALUE=DATE:
DTSTAMP:20260422T112836Z
UID:@fdffdae9acb74f2e4f02ffd67d411ab8@primiero.events
ORGANIZER;CN=Comunità di Primiero:MAILTO:webmaster@primiero.events
SUMMARY:Le Miniere Contese
LOCATION:Palazzo delle Miniere, Fiera di Primiero
DESCRIPTION:Rievocazione storica con scacchi viventi. Fiera di Primiero, Palazzo delle Miniere, ore 21.00
STATUS:CONFIRMED
END:VEVENT
END:VCALENDAR