BEGIN:VCALENDAR
VERSION:2.0
PRODID:-//primiero.events//Concerto di Ferragosto//IT
CALSCALE:GREGORIAN
METHOD:PUBLISH
X-WR-TIMEZONE:UTC
X-WR-CALNAME:Concerto di Ferragosto
X-WR-CALDESC:Concerto di Ferragosto
X-WR-TIMEZONE:Europe/Rome
BEGIN:VEVENT
DTSTART;VALUE=DATE:
DTEND;VALUE=DATE:
DTSTAMP:20260422T110552Z
UID:@f3f43aaf5f80eff90606f40a9f8ee199@primiero.events
ORGANIZER;CN=Comunità di Primiero:MAILTO:webmaster@primiero.events
SUMMARY:Concerto di Ferragosto
LOCATION:San Martino di Castrozza, TN
DESCRIPTION:Gran concerto di Ferragosto e tanta allegria sotto le Pale di San Martino.San Martino di Castrozza, Piazzale Madonna, ore 20.00
STATUS:CONFIRMED
END:VEVENT
END:VCALENDAR