BEGIN:VCALENDAR
VERSION:2.0
PRODID:-//primiero.events//Palio della Sloiza //IT
CALSCALE:GREGORIAN
METHOD:PUBLISH
X-WR-TIMEZONE:UTC
X-WR-CALNAME:Palio della Sloiza 
X-WR-CALDESC:Palio della Sloiza 
X-WR-TIMEZONE:Europe/Rome
BEGIN:VEVENT
DTSTART;VALUE=DATE:20170817
DTEND;VALUE=DATE:20170819
DTSTAMP:20260422T110717Z
UID:@4454cfe2555e85cda9da02d203546aa8@primiero.events
ORGANIZER;CN=Comunità di Primiero:MAILTO:webmaster@primiero.events
SUMMARY:Palio della Sloiza 
LOCATION:Tonadico, TN
DESCRIPTION:ll Palio della Sloiza
 è una sfida tra gli otto paesi di Primiero nella rievocazione di una 
delle attività agricole tradizionali del passato: l’utilizzo della 
“sloiza” come mezzo di trasporto. Le squadre metteranno alla prova forza
 e abilità: percorrere un tratto tra le vie del paese con una “carga de 
fen”, “siegarelborel”, suonare i campanacci… Dopo le varie prove la 
sfida termina con l’arrivo in Piazza San Marco, per “pestar su legne col
 manarin”.Il Palio è preceduto da una serata in cui nelle 
piazzette del centro storico rivivono i lavori di un tempo: 
dall’attività mineraria ai lavori della tradizione contadina, dalle 
attività artigianali a quelle legate al legname. Durante la serata sarà 
possibile degustare i dolci tipici del Primiero e altre specialità. ProgrammaGiovedì 17 agosto Concerto del Coro Sass Maor.Transacqua, Piazza Don Nicoletti, dalle ore 19.00 Venerdì 18 agosto "Magnari e mestieri de 'na volta":
 stand gastronomico con piatti e dolci tipici cucinati tra le vie del 
paese e rievocazione storica di mestieri e saperi di un tempo.Transacqua, Centro Storico, dalle ore 19.00﻿  Sabato 19 agosto 20° Palio della Sloiza: stand
 gastronomico e serata danzante con la "Dolomiten Bier Band". Sfida tra 
le otto squadre che rappresentano i paesi di Primiero con prove di forza
 e abilità in compagnia della propria sloiza.Transacqua, Piazza San Marco e Centro Storico, dalle ore 19.00 (in caso di maltempo la manifestazione si svolgerà domenica 20 agosto alle ore 12.00)
STATUS:CONFIRMED
END:VEVENT
END:VCALENDAR