BEGIN:VCALENDAR
VERSION:2.0
PRODID:-//primiero.events//Matteo Righetto - L'anima della Frontiera//IT
CALSCALE:GREGORIAN
METHOD:PUBLISH
X-WR-TIMEZONE:UTC
X-WR-CALNAME:Matteo Righetto - L'anima della Frontiera
X-WR-CALDESC:Matteo Righetto - L'anima della Frontiera
X-WR-TIMEZONE:Europe/Rome
BEGIN:VEVENT
DTSTART;VALUE=DATE:
DTEND;VALUE=DATE:
DTSTAMP:20260422T110400Z
UID:@fe44161bb120c61b15d89bdf79ce4b07@primiero.events
ORGANIZER;CN=Comunità di Primiero:MAILTO:webmaster@primiero.events
SUMMARY:Matteo Righetto - L'anima della Frontiera
LOCATION:San Martino di Castrozza, TN
DESCRIPTION:Matteo
 Righetto ci presenta il suo ultimo strepitoso successo : L'anima della 
Frontiera. Prima della pubblicazione in Italia, il 13 giugno per 
Mondadori, 'L'anima della frontiera', il nuovo romanzo di Matteo 
Righetto, è diventato un caso. Con questo western letterario sul mondo 
dei contrabbandieri di tabacco nel Nord Italia, lo scrittore ha 
suscitato l'interesse di numerosi editori stranieri e sono già stati 
venduti i diritti in 10 paesi.HOTEL REGINA GARDEN - SAN MARTINO DI CASTROZZA
STATUS:CONFIRMED
END:VEVENT
END:VCALENDAR